BEGIN:VCALENDAR
VERSION:2.0
PRODID:-//Schuberts e.V. - ECPv6.15.20//NONSGML v1.0//EN
CALSCALE:GREGORIAN
METHOD:PUBLISH
X-ORIGINAL-URL:https://schuberts.net
X-WR-CALDESC:Veranstaltungen für Schuberts e.V.
REFRESH-INTERVAL;VALUE=DURATION:PT1H
X-Robots-Tag:noindex
X-PUBLISHED-TTL:PT1H
BEGIN:VTIMEZONE
TZID:UTC
BEGIN:STANDARD
TZOFFSETFROM:+0000
TZOFFSETTO:+0000
TZNAME:UTC
DTSTART:20230101T000000
END:STANDARD
END:VTIMEZONE
BEGIN:VEVENT
DTSTART;TZID=UTC:20240907T100000
DTEND;TZID=UTC:20240907T170000
DTSTAMP:20260420T152848
CREATED:20240424T172806Z
LAST-MODIFIED:20240805T061213Z
UID:473-1725703200-1725728400@schuberts.net
SUMMARY:Kinderfest mit Flohmarkt
DESCRIPTION:Samstag\, 07.09.2024 10 – 16 Uhr \n\n\n\nFlohmarkt für Kindersachen und Kleidertausch für kleine Leute.Was wenn die Kinderkleidung nicht mehr passt?Tauschen\, verkaufen\, mit anderen Eltern ins Gespräch kommen! Unsere Tauschbörse bietet ein breites Angebot an Kinderkleidung\, Büchern und Spielzeug und für die kleinen Gäste natürlich auch eine Mal- und Spielecke\, Glücksrad sowie ein Puppentheater. Kakao\, Kaffee und Kuchen 🙂
URL:https://schuberts.net/kindersachenboerse/
END:VEVENT
BEGIN:VEVENT
DTSTART;TZID=UTC:20240907T190000
DTEND;TZID=UTC:20240907T213000
DTSTAMP:20260420T152848
CREATED:20240829T093701Z
LAST-MODIFIED:20240831T115059Z
UID:657-1725735600-1725744600@schuberts.net
SUMMARY:Konzert: Duo RÍOS:LAUER
DESCRIPTION:Das Duo Ríos Lauer setzt sich aus Andrea Ríos und Florian Lauer zusammen und spielt experimentelle Musik\, bei der Text und Musik in einem dialogischen Austausch stehen\, sich gegenseitig durchdringen und untrennbar ineinander verwoben werden. Sie transportieren einzelne Bilder und Gefühlssequenzen\, und wandeln sie in Klänge um.  \n\n\n\nAndrea Ríos: Vocals\, mpc\, synth\, FX\, Lichttheremin  \n\n\n\nFlorian Lauer: Drums\, Vocals\, synth\, mpc\, FX \n\n\n\nDie Bar hat ab 18 Uhr geöffnet. Eintritt frei – Spenden willkommen.
URL:https://schuberts.net/jazzkonzert-im-schuberts/
END:VEVENT
END:VCALENDAR