BEGIN:VCALENDAR
VERSION:2.0
PRODID:-//Schuberts e.V. - ECPv6.15.20//NONSGML v1.0//EN
CALSCALE:GREGORIAN
METHOD:PUBLISH
X-WR-CALNAME:Schuberts e.V.
X-ORIGINAL-URL:https://schuberts.net
X-WR-CALDESC:Veranstaltungen für Schuberts e.V.
REFRESH-INTERVAL;VALUE=DURATION:PT1H
X-Robots-Tag:noindex
X-PUBLISHED-TTL:PT1H
BEGIN:VTIMEZONE
TZID:UTC
BEGIN:STANDARD
TZOFFSETFROM:+0000
TZOFFSETTO:+0000
TZNAME:UTC
DTSTART:20230101T000000
END:STANDARD
END:VTIMEZONE
BEGIN:VEVENT
DTSTART;TZID=UTC:20240915T100000
DTEND;TZID=UTC:20240915T110000
DTSTAMP:20260420T140132
CREATED:20240713T055424Z
LAST-MODIFIED:20240911T074826Z
UID:616-1726394400-1726398000@schuberts.net
SUMMARY:Matinee Klassische Klavierwerke
DESCRIPTION:Adele- Marie Schäfer spielt am Flügel Stücke von Bach\, Liszt und Chopin.
URL:https://schuberts.net/matinee-klassische-klavierwerke-2/
END:VEVENT
END:VCALENDAR