BEGIN:VCALENDAR
VERSION:2.0
PRODID:-//Schuberts e.V. - ECPv6.15.20//NONSGML v1.0//EN
CALSCALE:GREGORIAN
METHOD:PUBLISH
X-ORIGINAL-URL:https://schuberts.net
X-WR-CALDESC:Veranstaltungen für Schuberts e.V.
REFRESH-INTERVAL;VALUE=DURATION:PT1H
X-Robots-Tag:noindex
X-PUBLISHED-TTL:PT1H
BEGIN:VTIMEZONE
TZID:UTC
BEGIN:STANDARD
TZOFFSETFROM:+0000
TZOFFSETTO:+0000
TZNAME:UTC
DTSTART:20240101T000000
END:STANDARD
END:VTIMEZONE
BEGIN:VEVENT
DTSTART;TZID=UTC:20251204T170000
DTEND;TZID=UTC:20251204T210000
DTSTAMP:20260420T104745
CREATED:20251007T050719Z
LAST-MODIFIED:20251007T050720Z
UID:1376-1764867600-1764882000@schuberts.net
SUMMARY:geschlossene Veranstaltung
DESCRIPTION:Weihnachtsfeier MM+H
URL:https://schuberts.net/geschlossene-veranstaltung/
END:VEVENT
END:VCALENDAR